BEGIN:VCALENDAR
VERSION:2.0
PRODID:-//Appleford-on-Thames Parish Council//Meeting Calendar//EN
CALSCALE:GREGORIAN
METHOD:PUBLISH
BEGIN:VEVENT
UID:71548-20240523@appleford-pc.gov.uk
DTSTAMP:20260422T083402Z
DTSTART;VALUE=DATE:20240523
DTEND;VALUE=DATE:20240524
SUMMARY:Annual Parish Meeting &#8211\\; 23 May 2024
DESCRIPTION:Annual Meeting\nView details: https://appleford-pc.gov.uk/meetings/annual-parish-meeting-23-may-2024/
URL:https://appleford-pc.gov.uk/meetings/annual-parish-meeting-23-may-2024/
END:VEVENT
END:VCALENDAR
